BEGIN:VCALENDAR
VERSION:2.0
PRODID:icalendar-ruby
CALSCALE:GREGORIAN
METHOD:PUBLISH
BEGIN:VEVENT
DTSTAMP:20260420T031939Z
UID:5-1503174@gilbertumc.org
DTSTART:20261101T180000Z
DTEND:20261101T190000Z
CLASS:PUBLIC
CREATED:20260419T172409
DESCRIPTION:Sunday Worship
LAST-MODIFIED:20260419T172409
LOCATION:
SUMMARY:Sunday Worship
URL;VALUE=URI:https://www.gilbertumc.church/events/sunday-worship/2026-11-0
 1
END:VEVENT
END:VCALENDAR
