BEGIN:VCALENDAR
VERSION:2.0
PRODID:icalendar-ruby
CALSCALE:GREGORIAN
METHOD:PUBLISH
BEGIN:VEVENT
DTSTAMP:20260419T195327Z
UID:5-1502197@gilbertumc.org
DTSTART:20261004T180000Z
DTEND:20261004T190000Z
CLASS:PUBLIC
CREATED:20260419T095941
DESCRIPTION:Sunday Worship
LAST-MODIFIED:20260419T095941
LOCATION:
SUMMARY:Sunday Worship
URL;VALUE=URI:https://www.gilbertumc.church/events/sunday-worship/2026-10-0
 4
END:VEVENT
END:VCALENDAR
