BEGIN:VCALENDAR
VERSION:2.0
PRODID:icalendar-ruby
CALSCALE:GREGORIAN
METHOD:PUBLISH
BEGIN:VEVENT
DTSTAMP:20260419T180813Z
UID:5-1502196@gilbertumc.org
DTSTART:20260927T180000Z
DTEND:20260927T190000Z
CLASS:PUBLIC
CREATED:20260419T095941
DESCRIPTION:Sunday Worship
LAST-MODIFIED:20260419T095941
LOCATION:
SUMMARY:Sunday Worship
URL;VALUE=URI:https://www.gilbertumc.church/events/sunday-worship/2026-09-2
 7
END:VEVENT
END:VCALENDAR
