BEGIN:VCALENDAR
VERSION:2.0
PRODID:icalendar-ruby
CALSCALE:GREGORIAN
METHOD:PUBLISH
BEGIN:VEVENT
DTSTAMP:20260419T144056Z
UID:5-1501708@gilbertumc.org
DTSTART:20260913T180000Z
DTEND:20260913T190000Z
CLASS:PUBLIC
CREATED:20260419T061746
DESCRIPTION:Sunday Worship
LAST-MODIFIED:20260419T061746
LOCATION:
SUMMARY:Sunday Worship
URL;VALUE=URI:https://www.gilbertumc.church/events/sunday-worship/2026-09-1
 3
END:VEVENT
END:VCALENDAR
