BEGIN:VCALENDAR
VERSION:2.0
PRODID:icalendar-ruby
CALSCALE:GREGORIAN
METHOD:PUBLISH
BEGIN:VEVENT
DTSTAMP:20260419T125521Z
UID:5-1501221@gilbertumc.org
DTSTART:20260906T180000Z
DTEND:20260906T190000Z
CLASS:PUBLIC
CREATED:20260419T005353
DESCRIPTION:Sunday Worship
LAST-MODIFIED:20260419T005353
LOCATION:
SUMMARY:Sunday Worship
URL;VALUE=URI:https://www.gilbertumc.church/events/sunday-worship/2026-09-0
 6
END:VEVENT
END:VCALENDAR
